BEGIN:VCALENDAR
VERSION:2.0
PRODID:-//Greater Sacramento Soroptimists - ECPv6.15.20//NONSGML v1.0//EN
CALSCALE:GREGORIAN
METHOD:PUBLISH
X-ORIGINAL-URL:https://sacramentosoroptimists.org
X-WR-CALDESC:Events for Greater Sacramento Soroptimists
REFRESH-INTERVAL;VALUE=DURATION:PT1H
X-Robots-Tag:noindex
X-PUBLISHED-TTL:PT1H
BEGIN:VTIMEZONE
TZID:America/Los_Angeles
BEGIN:DAYLIGHT
TZOFFSETFROM:-0800
TZOFFSETTO:-0700
TZNAME:PDT
DTSTART:20230312T100000
END:DAYLIGHT
BEGIN:STANDARD
TZOFFSETFROM:-0700
TZOFFSETTO:-0800
TZNAME:PST
DTSTART:20231105T090000
END:STANDARD
BEGIN:DAYLIGHT
TZOFFSETFROM:-0800
TZOFFSETTO:-0700
TZNAME:PDT
DTSTART:20240310T100000
END:DAYLIGHT
BEGIN:STANDARD
TZOFFSETFROM:-0700
TZOFFSETTO:-0800
TZNAME:PST
DTSTART:20241103T090000
END:STANDARD
BEGIN:DAYLIGHT
TZOFFSETFROM:-0800
TZOFFSETTO:-0700
TZNAME:PDT
DTSTART:20250309T100000
END:DAYLIGHT
BEGIN:STANDARD
TZOFFSETFROM:-0700
TZOFFSETTO:-0800
TZNAME:PST
DTSTART:20251102T090000
END:STANDARD
BEGIN:DAYLIGHT
TZOFFSETFROM:-0800
TZOFFSETTO:-0700
TZNAME:PDT
DTSTART:20260308T100000
END:DAYLIGHT
BEGIN:STANDARD
TZOFFSETFROM:-0700
TZOFFSETTO:-0800
TZNAME:PST
DTSTART:20261101T090000
END:STANDARD
END:VTIMEZONE
BEGIN:VEVENT
DTSTART;TZID=America/Los_Angeles:20251104T113000
DTEND;TZID=America/Los_Angeles:20251104T131500
DTSTAMP:20260424T104553
CREATED:20251004T233825Z
LAST-MODIFIED:20251029T175324Z
UID:2633-1762255800-1762262100@sacramentosoroptimists.org
SUMMARY:SIGS Lunch Meeting~November 4\, 2025
DESCRIPTION:  \nSIGS is pleased to welcome our speaker\, Dr. Linda Howe-Ram\, Director of CSUS Guardian Scholars Program (GSP) for Foster Youth.  The program serves students who have experienced the foster care system\, were eligible for the McKinney Vento Act students in high school\, were wards of the court and/or unaccompanied minors.  GSP offers wrap-around services to support students’ journey at Sac State.  Being part of the program means more than just a resource; students are part of a family community. \n\nIn 2024\, CSUS celebrated the opening of a new and expanded center for the Guardian Scholars Program.\nThe program formed a partnership with CSUS Admissions Office to allow all former foster youth guaranteed admission\, if they meet the Admission requirements and eligibility criteria for being a foster youth.\nThe CSUS Guardian Scholars for Foster Youth is the third largest program in the state.\nThe program has celebrated the successful graduation of over 200 Foster Youth in the past 10 years.\n\nPlease RSVP by Sunday\, Nov. 2nd.
URL:https://sacramentosoroptimists.org/event/sigs-lunch-meetingnovember-4/
LOCATION:Pete’s Restaurant & Brewhouse\, 2100 Arden Way\, Suite 123\, Sacramento\, 95825
END:VEVENT
BEGIN:VEVENT
DTSTART;TZID=America/Los_Angeles:20251021T113000
DTEND;TZID=America/Los_Angeles:20251021T131500
DTSTAMP:20260424T104553
CREATED:20251004T233215Z
LAST-MODIFIED:20251014T182410Z
UID:2630-1761046200-1761052500@sacramentosoroptimists.org
SUMMARY:SIGS Lunch Meeting~Oct. 21\, 2025
DESCRIPTION:Our speaker will be representing Women’s Wisdom Art.  Debbie Wender is the Vice Chair and Fundraising Chair for WWA.  The organization was started at Loaves and Fishes in 1991 inviting women to engage in creative arts\, writing and wellness activities so they may forge new friendships\, recover from or manage illness or loss\, and avoid isolation.  They currently offer workshops for four Sacramento County nonprofits at five locations. \n11:30-1:15 \nPete’s Restaurant and Brewhouse \nPlease RSVP by Sunday\, October 19
URL:https://sacramentosoroptimists.org/event/sigs-lunch-meetingoct-21st/
LOCATION:Pete’s Restaurant & Brewhouse\, 2100 Arden Way\, Suite 123\, Sacramento\, 95825
END:VEVENT
BEGIN:VEVENT
DTSTART;TZID=America/Los_Angeles:20251018T090000
DTEND;TZID=America/Los_Angeles:20251018T140000
DTSTAMP:20260424T104553
CREATED:20251004T231711Z
LAST-MODIFIED:20251004T235509Z
UID:2628-1760778000-1760796000@sacramentosoroptimists.org
SUMMARY:SNR District 3 Fall Meeting~October 18\, 2025
DESCRIPTION:District 3 Fall Meeting will take place in Placerville on October 18\, 2025. \nTheme:  “Turning Stars into Superstars” \nContinental Breakfast and lunch provided\, Cost $40. \nRegister by October 10 \nLocation:  The Center for Violence Free Relationships \n344 Placerville Drive #11\, Placerville \nRegistration link is https://registration.soroptimistsnr.org/events/2025-fdm-d3/\, or see the SNR E -Blast emailed to you.
URL:https://sacramentosoroptimists.org/event/snr-district-3-fall-meetingoctober-18/
END:VEVENT
BEGIN:VEVENT
DTSTART;TZID=America/Los_Angeles:20251007T114500
DTEND;TZID=America/Los_Angeles:20251007T131500
DTSTAMP:20260424T104553
CREATED:20250927T135537Z
LAST-MODIFIED:20250927T135537Z
UID:2625-1759837500-1759842900@sacramentosoroptimists.org
SUMMARY:SIGS Meeting~ October 7\, 2025
DESCRIPTION:The speaker for this meeting is Jackie Simon\, Community Relations Coordinator for Court Appointed Special Advocate (CASA) Sacramento. \nIn addition to her recent employment at CASA\, Jackie has been an advocate for over 12 years.  Over this time\, she has supported 3 youth.  She is currently advocating for an 18 year old young woman who recently achieved her primary goal of graduating from high school in June and has transitioned to Extended Foster Care.  They have been matched for over 3 years. \nOver the years with CASA Sacramento\, she has demonstrated her support for the organization in other capacities by helping at various fundraising events\, serving as a panel member at volunteer training\, as a CASA mentor for monthly CASA volunteer support meetings\, and doing volunteer outreach in the community.  She continues to be passionate about advocation for foster youth and sharing that enthusiasm with others to inspire people in the community to become a consistent and caring adult in a child’s life. \nYou won’t want to miss this inspiring presentation! \nPlease RSVP
URL:https://sacramentosoroptimists.org/event/sigs-meeting-october-7-2025/
LOCATION:Pete’s Restaurant & Brewhouse\, 2100 Arden Way\, Suite 123\, Sacramento\, 95825
END:VEVENT
BEGIN:VEVENT
DTSTART;TZID=America/Los_Angeles:20250916T113000
DTEND;TZID=America/Los_Angeles:20250916T131500
DTSTAMP:20260424T104553
CREATED:20250609T202845Z
LAST-MODIFIED:20250908T200554Z
UID:2546-1758022200-1758028500@sacramentosoroptimists.org
SUMMARY:SIGS First Meeting~September 16th
DESCRIPTION:LET’S MAKE A DIFFERENCE!  Join us for our first meeting of 2025-2026.  Committee Chairs will share information about what each committee would like to do this year.  We will also discuss the budget and how to plan for each committee’s budget needs. \nCome early and socialize (11:30).  The meeting will begin promptly at 11:45. \nRSVP by Sunday\, September 14 \nLocation: Pete’s Restaurant and Brewhouse
URL:https://sacramentosoroptimists.org/event/sigs-first-meetingseptember-16th/
END:VEVENT
BEGIN:VEVENT
DTSTART;TZID=America/Los_Angeles:20250826T173000
DTEND;TZID=America/Los_Angeles:20250826T200000
DTSTAMP:20260424T104553
CREATED:20250609T202341Z
LAST-MODIFIED:20250817T025848Z
UID:2544-1756229400-1756238400@sacramentosoroptimists.org
SUMMARY:Summer Mixer~August 26\, 2025
DESCRIPTION:Mark your calendar for the first event in SIGS club year.  We will gather on Tuesday\, August 26 for our Summer mixer.  Please invite others who might be interested in membership. \nLocation: Carol Little’s Home \nTime: 5:30-8:00 \nIt’s Taco Tuesday\, Fun…Good Food…and Conversation \nCost:  $25 \nBring a friend and your favorite beverage (we’ll have ice tea and water available) \nPlease RSVP by August 24th. \nLet us know if you are interested in a car pool.  We’ll try to match you up!
URL:https://sacramentosoroptimists.org/event/summer-mixeraugust-26-2025/
END:VEVENT
BEGIN:VEVENT
DTSTART;TZID=America/Los_Angeles:20250606T120000
DTEND;TZID=America/Los_Angeles:20250608T140000
DTSTAMP:20260424T104553
CREATED:20250408T001831Z
LAST-MODIFIED:20250408T001952Z
UID:2142-1749211200-1749391200@sacramentosoroptimists.org
SUMMARY:Sierra Nevada Region Conference 2025  June 6-8
DESCRIPTION:SNR 2025 Conference will be held June 6-8 at the Atlantis Hotel and Casino in Reno\, NV.  The theme of Making Dreams Soar will be brought to life through our speakers\, activities\, awards\, and recognition of the fabulous members of the Sierra Nevada Region and Soroptimist International of the Americas. \nOne of the speakers at the Saturday evening session will be Jenna McKaye\, author of Grit and Grace\, A Journey to Resilience.  Our SIGS bool club is currently reading her book. \nHotel Registration can be made at Atlantis Casino Resort Spa or call 800-723-6500.  Ask for the 49th SNR Soroptimist International room block.
URL:https://sacramentosoroptimists.org/event/snr-conference-2025-june-6-8/
END:VEVENT
BEGIN:VEVENT
DTSTART;TZID=America/Los_Angeles:20250603T113000
DTEND;TZID=America/Los_Angeles:20250603T131500
DTSTAMP:20260424T104553
CREATED:20250407T233550Z
LAST-MODIFIED:20250407T233550Z
UID:2526-1748950200-1748956500@sacramentosoroptimists.org
SUMMARY:SIGS Lunch Meeting~June 3\, 2025
DESCRIPTION:This will be our final SIGS meeting of the year.  Please come and help us celebrate the great year we’ve had.  We will learn about the results of our BIG fundraiser and finalize the committees for 2025-2026. \nPlease RSVP to hospitalitysigs@gmail.com
URL:https://sacramentosoroptimists.org/event/sigs-lunch-meetingjune-3-2025/
LOCATION:Pete’s Restaurant & Brewhouse\, 2100 Arden Way\, Suite 123\, Sacramento\, 95825
END:VEVENT
BEGIN:VEVENT
DTSTART;TZID=America/Los_Angeles:20250520T053000
DTEND;TZID=America/Los_Angeles:20250520T200000
DTSTAMP:20260424T104553
CREATED:20250314T190104Z
LAST-MODIFIED:20250407T230233Z
UID:2497-1747719000-1747771200@sacramentosoroptimists.org
SUMMARY:Installation of Officers ~ May 20\, 2025
DESCRIPTION:This year”s celebration will be held at Lydia’s beautiful home and yard on May 20\, 2025 from 5:30-8:00. \nPlace 1180 Glen Aulin Court\, Carmichael\, CA 95608 \nPlease RSVP to hospitalitysigs@gmail.com \n 
URL:https://sacramentosoroptimists.org/event/installation-of-officers-may-20-2025/
LOCATION:1180 GlenAulin Court\, 1180 Glen Aulin Court\, Carmichael\, CA\, 95608\, United States
END:VEVENT
BEGIN:VEVENT
DTSTART;TZID=America/Los_Angeles:20250508T153000
DTEND;TZID=America/Los_Angeles:20250508T200000
DTSTAMP:20260424T104553
CREATED:20250302T194145Z
LAST-MODIFIED:20250430T175006Z
UID:2421-1746718200-1746734400@sacramentosoroptimists.org
SUMMARY:EVENT DAY ~ It's in the Bag Fundraiser~May 8\,2025 ~ 3:30
DESCRIPTION:We’ll finish setting up (placing purses\, accessories\, door prizes\, etc.). before the doors open   Table hosts will be selling raffle tickets and olive oil at their tables.  Other volunteers will be needed for the Reception Desk\, Raffle assistance and Clean-up \nIf you can’t be there by. 3:30 definitely be there by 4:30 for last minute instructions. \nA designer bag and accessories spree presented by Soroptimist International of Greater Sacramento will be held at  \n    Mosaic Law Congregation Center\, 5:30 \n2300 Sierra Boulevard\, Sacramento 95825 \nTicket Price $65.00 includes Buffet Dinner \nFor tickets contact  sigs2010@gmail.com \n 
URL:https://sacramentosoroptimists.org/event/its-in-the-bag-fundraisermay-82025/
END:VEVENT
BEGIN:VEVENT
DTSTART;TZID=America/Los_Angeles:20250507T130000
DTEND;TZID=America/Los_Angeles:20250507T160000
DTSTAMP:20260424T104553
CREATED:20250430T173703Z
LAST-MODIFIED:20250430T173703Z
UID:2540-1746622800-1746633600@sacramentosoroptimists.org
SUMMARY:Setup Day ~ Tuesday\, May 7 ~ 1:00 p.m.
DESCRIPTION:This is the key day to get a head start on preparing for It’s in the Bag.  Can’t lift of move things?  No problem!  There are plenty of tasks that don’t require heavy lifting–like  numbering purses or placing signs in frames.  Please come and help.  It’s fun!! \nDate:  Tuesday\, May 7 \nTime:  1:00 \nLocation:  The Center at 2300 Sierra Blvd
URL:https://sacramentosoroptimists.org/event/setup-day-tuesday-may-7-100-p-m/
END:VEVENT
BEGIN:VEVENT
DTSTART;TZID=America/Los_Angeles:20250506T120000
DTEND;TZID=America/Los_Angeles:20250506T143000
DTSTAMP:20260424T104553
CREATED:20250407T232047Z
LAST-MODIFIED:20250430T172714Z
UID:2523-1746532800-1746541800@sacramentosoroptimists.org
SUMMARY:Handbag Inventory Organizing~Tuesday\, May 6\, 2025
DESCRIPTION:Join us as we review all donated purses and accessories to determine what makes the cut.  Please bring all handbags on May 6 to Susan’s Condo Clubhouse at noon.  2430 Pavilions Place\, Sacramento\, CA 95825.  If you are unable to attend\, please send your items with someone who can bring them on your behalf. \nDate:  May 6\, 2025 \nTime: Noon \n  Location: Susan’s Pavilions Clubhouse\, 2430 Pavilions Place\, Sacramento\, CA 95825 \n 
URL:https://sacramentosoroptimists.org/event/handbag-inventory-organizingtuesday-may-6-2025/
END:VEVENT
BEGIN:VEVENT
DTSTART;TZID=America/Los_Angeles:20250415T173000
DTEND;TZID=America/Los_Angeles:20250415T210000
DTSTAMP:20260424T104553
CREATED:20250208T001809Z
LAST-MODIFIED:20250328T223727Z
UID:2389-1744738200-1744750800@sacramentosoroptimists.org
SUMMARY:SIGS Annual Retreat-April 15\, 5:30-9:00
DESCRIPTION:You are invited to a very important meeting! \nSIGS Annual Retreat is scheduled each April for the purpose of electing next year’s officers\, of signing up for committees\, and for helping plan direction of next year’s agenda with the newly elected officers. \nOnly members of our own club are invited and all members are expected to attend. (A portion of your annual dues covers the cost of the retreat.) \nThis is always a fun and lively meeting where we ideate\, form plans and choose our direction for the next year.  In the last few years\, our numbers. have dwindled so it’s more important than ever that we hear from one another and share our ideas to continue in a bigger\, better and cooperative fashion.  See you all there! \nPlease R.S.V.P. by Thursday\, April 3rd  \n  \n  \n  \n  \n  \n  \n  \n  \n  \n  \n 
URL:https://sacramentosoroptimists.org/event/sigs-annual-retreat/
LOCATION:Bella Bru~5038 Fair Oaks Blvd\, Carmichael\, CA\, 5026 Fair Oaks Blvd\, Carmichael\, 95608
CATEGORIES:Club Meeting
END:VEVENT
BEGIN:VEVENT
DTSTART;TZID=America/Los_Angeles:20250401T113000
DTEND;TZID=America/Los_Angeles:20250401T131500
DTSTAMP:20260424T104553
CREATED:20250208T000333Z
LAST-MODIFIED:20250328T212157Z
UID:2382-1743507000-1743513300@sacramentosoroptimists.org
SUMMARY:April 1\, 2025~In Person Meeting
DESCRIPTION:The speaker originally scheduled for this meeting is unavailable.  We will reschedule with Cal Victims Compensation Board in the fall. \nOur year is quickly moving ahead.  We will be accepting nominations for officers for 2025-2026 at this meeting.  We have candidates for Co-president and Treasurer but are still seeking a Secretary.  Please let me know if you are Interested\, \nWe will look ahead to what’s on the SIGS calendar \nThere will be a Treasurer’s  Report and committee reports for the Annual Retreat and It’s in the Bag. \nPete’s Restaurant and Brewhouse\, 2100 Arden Way\, Unit 123 \n11:30-1:15 \nPlease RSVP with sigs hospitality \n 
URL:https://sacramentosoroptimists.org/event/april-1-in-person-meeting-petes-restaurant-and-brewhouse/
LOCATION:Pete’s Restaurant & Brewhouse\, 2100 Arden Way\, Suite 123\, Sacramento\, 95825
CATEGORIES:Club Meeting
END:VEVENT
BEGIN:VEVENT
DTSTART;TZID=America/Los_Angeles:20250318T113000
DTEND;TZID=America/Los_Angeles:20250318T131500
DTSTAMP:20260424T104553
CREATED:20250207T233746Z
LAST-MODIFIED:20250305T191129Z
UID:2376-1742297400-1742303700@sacramentosoroptimists.org
SUMMARY:March 18-In Person Meeting 11:30-1:15
DESCRIPTION:This in-person meeting will focus on It’s in the Bag details and finalizing tasks for completion. \nWe will also discuss nomination of officers and organization of committees.  Your participation is key to charting the club’s future plan. \nOffices open for nomination are President\, Secretary and Treasurer. \nPlease RSVP
URL:https://sacramentosoroptimists.org/event/march-18-zoom-meeting-1130-115/
END:VEVENT
BEGIN:VEVENT
DTSTART;TZID=America/Los_Angeles:20250304T113000
DTEND;TZID=America/Los_Angeles:20250304T131500
DTSTAMP:20260424T104553
CREATED:20241229T001936Z
LAST-MODIFIED:20241229T001950Z
UID:2323-1741087800-1741094100@sacramentosoroptimists.org
SUMMARY:March 4th In Person Meeting - Speaker
DESCRIPTION:Kala Clark will be our guest speaker representing 3 Strands on Tuesday\, March 4.  3Strands Global Foundation was founded in response to an event that shook a small\, tight-knit California community.  A young girl was trafficked for 8 days before she was recovered by law enforcement.  This would later spark the creation of PROTECT prevention education\, which has gone on to educate hundreds of thousands of students on how to stay safe from human trafficking.  We will learn how 3Strands has expanded to include Employ + Empower which has helped support and economically empower hundreds of individuals. \nPlease RSVP
URL:https://sacramentosoroptimists.org/event/march-4th-in-person-meeting-speaker/
LOCATION:Pete’s Restaurant & Brewhouse\, 2100 Arden Way\, Suite 123\, Sacramento\, 95825
END:VEVENT
BEGIN:VEVENT
DTSTART;TZID=America/Los_Angeles:20250301T093000
DTEND;TZID=America/Los_Angeles:20250301T120000
DTSTAMP:20260424T104553
CREATED:20250207T231900Z
LAST-MODIFIED:20250207T231900Z
UID:2372-1740821400-1740830400@sacramentosoroptimists.org
SUMMARY:D3 Winter District Leadership Meeting- March 1\, 2025
DESCRIPTION:Several members of SIGS who have leadership roles will be attending this Leadership Meeting. District 3 Director Sheryl will be proposing a district wide project that could increase the membership of all our clubs.  We will be reporting back to the membership once the details have been discussed. \nSo stay tuned.
URL:https://sacramentosoroptimists.org/event/d3-winter-district-leadership-meeting-march-1-2025/
END:VEVENT
BEGIN:VEVENT
DTSTART;TZID=America/Los_Angeles:20250218T113000
DTEND;TZID=America/Los_Angeles:20250218T131500
DTSTAMP:20260424T104553
CREATED:20241226T235251Z
LAST-MODIFIED:20250214T184556Z
UID:2310-1739878200-1739884500@sacramentosoroptimists.org
SUMMARY:February 18 Meeting @ Pete's
DESCRIPTION:This meeting was originally scheduled as a zoom meeting.  It has been changed to in-person at Pete’s \nJoin us for a very important planning session.  The topic is “It’s in the Bag”.  This is our prime fundraiser to support our mission of providing women and girls access to the education and training they need to achieve economic empowerment. \nWe will need your creative ideas\, energy and commitment to make this year’s event the best ever. \nSee you then!
URL:https://sacramentosoroptimists.org/event/february-18-meeting-via-zoom/
LOCATION:Pete”s Restaurant & Brewhouse\, 2100 Arden Way\, Sacramento\, California\, 95825
END:VEVENT
BEGIN:VEVENT
DTSTART;TZID=America/Los_Angeles:20250204T113000
DTEND;TZID=America/Los_Angeles:20250204T131500
DTSTAMP:20260424T104553
CREATED:20241226T233109Z
LAST-MODIFIED:20241227T000901Z
UID:2298-1738668600-1738674900@sacramentosoroptimists.org
SUMMARY:February 4 In-Person Meeting Live Your Dream
DESCRIPTION:This is a very important meeting.  We will be\, as a group\, selecting our Live Your Dream winner(s).  The applications will be summarized but there is still a lot to review so we will be starting at 11:30 to be sure we complete the task.  We are asking Club members to bring a $25 gift card (e.g. Target) to the Winter Mixer or the February 4th meeting.  We will give the gift cards to those applicants who do not receive an award to let them know SIGS supports their efforts. \nRSVP is require
URL:https://sacramentosoroptimists.org/event/february-4-in-person-meeting/
LOCATION:Pete”s Restaurant & Brewhouse\, 2100 Arden Way\, Sacramento\, California\, 95825
END:VEVENT
BEGIN:VEVENT
DTSTART;TZID=America/Los_Angeles:20250121T173000
DTEND;TZID=America/Los_Angeles:20250121T200000
DTSTAMP:20260424T104553
CREATED:20241130T233405Z
LAST-MODIFIED:20250108T201302Z
UID:2247-1737480600-1737489600@sacramentosoroptimists.org
SUMMARY:SIGS WINTER MIXER 1/21/25
DESCRIPTION:Calling all SIGS Members! \nIts time for our Mexican Fiesta Winter Mixer! \nBring a prospective member!  We’ll enjoy fun and games\, along with delicious food. \nDATE/TIME:  Tuesday\, January 21st 5:30PM \nBRING:  Wrapped ‘White Elephant’ gift (nothing pricey\, just something another member might enjoy) \nWHERE:  Mas Taco Bar\, 3535 Fair Oaks Blvd \nCOST:  $36/ person (includes tax\, gratuities and tea/soft drink) \nRSVP by January 16 \n 
URL:https://sacramentosoroptimists.org/event/sigs-winter-mixer-1-21-25-2/
END:VEVENT
BEGIN:VEVENT
DTSTART;TZID=America/Los_Angeles:20241214T093000
DTEND;TZID=America/Los_Angeles:20241214T123000
DTSTAMP:20260424T104553
CREATED:20241119T184556Z
LAST-MODIFIED:20241119T184556Z
UID:2198-1734168600-1734179400@sacramentosoroptimists.org
SUMMARY:Women's Empowerment Holiday Craft Party 12-14-2024
DESCRIPTION:Each year SIGS works in conjunction with W.E. to provide a Holiday Craft Party for the graduates of W.E. and their children.  We look forward to celebrating the season with the graduates and providing them with opportunities to craft gifts for their families\, loved ones and friends. \nDate: December 14\, 2024. \nLocation: 1025 9th St\, #201\, Sacramento\, CA 95814 \nTime: 9:30am-12:30pm \n 
URL:https://sacramentosoroptimists.org/event/womens-empowerment-holiday-craft-party-12-14-2024/
CATEGORIES:Community Service
END:VEVENT
BEGIN:VEVENT
DTSTART;TZID=America/Los_Angeles:20241213T000000
DTEND;TZID=America/Los_Angeles:20241213T000000
DTSTAMP:20260424T104553
CREATED:20241119T192245Z
LAST-MODIFIED:20241119T192442Z
UID:2204-1734048000-1734048000@sacramentosoroptimists.org
SUMMARY:Set-up for W.E. Holiday Craft Party 12-13-2024
DESCRIPTION:SIGS crafters and volunteers are invited to set up on Friday\, December 13.Time TBD  The tables will be in place.  We will cover them to protect the surface.  Craft materials should be brought on Friday.  We will also be installing any decorations at that time.  Specific time for set up will be added as it becomes available. \nOn Saturday\, Craft Party volunteers should arrive between 8:00 and 8:30 to finalize any preparations for the arrival of the guests. \n 
URL:https://sacramentosoroptimists.org/event/set-up-for-w-e-holiday-craft-party-12-13-2024/
END:VEVENT
BEGIN:VEVENT
DTSTART;TZID=America/Los_Angeles:20241203T113000
DTEND;TZID=America/Los_Angeles:20241203T131500
DTSTAMP:20260424T104553
CREATED:20241107T221401Z
LAST-MODIFIED:20241119T190957Z
UID:2158-1733225400-1733231700@sacramentosoroptimists.org
SUMMARY:December Meeting 12-3-24
DESCRIPTION:Our December meeting will be in-person with our speaker\, Jillian Zeidner.  She will discuss using social media to promote SIGS activities\, fund raisers and membership.  She will also give a tutorial on using the SIGS website. \nWe will kick off the season with our Holiday Silent Auction featuring your treasures looking for a new home.  Spirited bidding is sure to happen so join in and bid often. \nWe will be posing for a group photo to update our website.  So come ready to have fun with it. \nPete’s Restaurant and Brewhouse \nRSVP required
URL:https://sacramentosoroptimists.org/event/december-meeting-12-3-24/
END:VEVENT
BEGIN:VEVENT
DTSTART;TZID=America/Los_Angeles:20241130T232724
DTEND;TZID=America/Los_Angeles:20250121T000000
DTSTAMP:20260424T104553
CREATED:20250121T080017Z
LAST-MODIFIED:20241130T232724Z
UID:2237-1733009244-1737417600@sacramentosoroptimists.org
SUMMARY:SIGS Winter Mixer. 1-21-25
DESCRIPTION:All SIGS Members are invited to join us at our Annual Winter Mixer. \nLocation and Time TBD
URL:https://sacramentosoroptimists.org/event/sigs-winter-mixer-1-21-25/
CATEGORIES:Club Meeting
END:VEVENT
BEGIN:VEVENT
DTSTART;TZID=America/Los_Angeles:20241105T113000
DTEND;TZID=America/Los_Angeles:20241105T131500
DTSTAMP:20260424T104553
CREATED:20241003T221645Z
LAST-MODIFIED:20241003T221645Z
UID:2150-1730806200-1730812500@sacramentosoroptimists.org
SUMMARY:November 5 In-person Meeting
DESCRIPTION:The topic for this meeting will be the Women’s Empowerment Craft Party.  The crafts and materials will be reviewed and distributed to members.
URL:https://sacramentosoroptimists.org/event/november-5-in-person-meeting/
END:VEVENT
BEGIN:VEVENT
DTSTART;TZID=America/Los_Angeles:20241015T113000
DTEND;TZID=America/Los_Angeles:20241015T131500
DTSTAMP:20260424T104553
CREATED:20241015T183046Z
LAST-MODIFIED:20240920T215343Z
UID:2127-1728991800-1728998100@sacramentosoroptimists.org
SUMMARY:SIGS Oct 15 Meeting
DESCRIPTION:There will be a speaker still to be determined.  This meeting will be via Zoom
URL:https://sacramentosoroptimists.org/event/sigs-oct-15-meeting/
CATEGORIES:Club Meeting
END:VEVENT
BEGIN:VEVENT
DTSTART;TZID=America/Los_Angeles:20241015T113000
DTEND;TZID=America/Los_Angeles:20241015T131500
DTSTAMP:20260424T104553
CREATED:20241003T212628Z
LAST-MODIFIED:20241003T212628Z
UID:2148-1728991800-1728998100@sacramentosoroptimists.org
SUMMARY:October 15 Meeting via Zoom
DESCRIPTION:
URL:https://sacramentosoroptimists.org/event/october-15-meeting-via-zoom/
END:VEVENT
BEGIN:VEVENT
DTSTART;TZID=America/Los_Angeles:20241010T170000
DTEND;TZID=America/Los_Angeles:20241010T190000
DTSTAMP:20260424T104553
CREATED:20240924T165035Z
LAST-MODIFIED:20241003T212025Z
UID:2137-1728579600-1728586800@sacramentosoroptimists.org
SUMMARY:2024 Burnett Awards
DESCRIPTION:“The Sacramento History Museum will honor those Sacramento regional businesses that have stood the test of time and become an ionic part of our community.  Each year we honor 4 businesses and 1 community partner that have been in continuous service for over 50 years.  While each of the Soroptimist clubs have been in existence for various years\, we recognize that SOROPTIMIST INTERNATIONAL has been a part of our growing region for decades” \nSIGS will be one of 8 Sacramento County Clubs honored with this award. \nSacramento History Museum\, 101 I Street in Old Sacramento \nwww.burnettawards.org \n 
URL:https://sacramentosoroptimists.org/event/2024-burnett-awards/
END:VEVENT
BEGIN:VEVENT
DTSTART;TZID=America/Los_Angeles:20241005T093000
DTEND;TZID=America/Los_Angeles:20241005T133000
DTSTAMP:20260424T104553
CREATED:20240924T162936Z
LAST-MODIFIED:20240924T162936Z
UID:2133-1728120600-1728135000@sacramentosoroptimists.org
SUMMARY:2024 District 3 Fall Meeting
DESCRIPTION:The Fall District Meeting will be hosted by SI Elk Grove.  The Theme will be “Hit a Region Knowledge Home Run”. \nLocation:  CSD Wackford Community Complex\, Poppy Room. \n9014 Bruceville Rd\, Elk Grove\, CA 95758 \n 
URL:https://sacramentosoroptimists.org/event/2024-district-3-fall-meeting/
END:VEVENT
BEGIN:VEVENT
DTSTART;TZID=America/Los_Angeles:20241001T113000
DTEND;TZID=America/Los_Angeles:20241001T113000
DTSTAMP:20260424T104553
CREATED:20240920T211105Z
LAST-MODIFIED:20240920T211105Z
UID:2124-1727782200-1727782200@sacramentosoroptimists.org
SUMMARY:SIGS Oct 1 Speaker Meeting/ MeetingBusiness
DESCRIPTION:Curious about SIGS Endowment Fund?  You won’t want to miss this meeting. \nOur speaker will be Chelsea Fahr\, Senior Director of Philanthropy\, Sacramento Regional Community Foundation. \nThe Business meeting topic will be Live Your Dream Award and Dream Grants. \nPete’s Restaurant and Brew House\, 2100 Arden Way \nRSVP Required
URL:https://sacramentosoroptimists.org/event/sigs-oct-1-speaker-meeting-meetingbusiness/
CATEGORIES:Club Meeting
END:VEVENT
END:VCALENDAR